BEGIN:VCALENDAR
VERSION:2.0
PRODID:-//Saint Michael and All Angels Episcopal Church - ECPv6.2.9//NONSGML v1.0//EN
CALSCALE:GREGORIAN
METHOD:PUBLISH
X-WR-CALNAME:Saint Michael and All Angels Episcopal Church
X-ORIGINAL-URL:https://www.stmaa.com
X-WR-CALDESC:Events for Saint Michael and All Angels Episcopal Church
REFRESH-INTERVAL;VALUE=DURATION:PT1H
X-Robots-Tag:noindex
X-PUBLISHED-TTL:PT1H
BEGIN:VTIMEZONE
TZID:America/Chicago
BEGIN:DAYLIGHT
TZOFFSETFROM:-0600
TZOFFSETTO:-0500
TZNAME:CDT
DTSTART:20270314T080000
END:DAYLIGHT
BEGIN:STANDARD
TZOFFSETFROM:-0500
TZOFFSETTO:-0600
TZNAME:CST
DTSTART:20271107T070000
END:STANDARD
END:VTIMEZONE
BEGIN:VEVENT
DTSTART;TZID=America/Chicago:20270428T200000
DTEND;TZID=America/Chicago:20270428T203000
DTSTAMP:20260420T004814
CREATED:20250305T193010Z
LAST-MODIFIED:20251117T193854Z
UID:10001053-1808942400-1808944200@www.stmaa.com
SUMMARY:Compline
DESCRIPTION:Held on Zoom. To attend virtually\, click here. \nTo access the Compline service in the Book of Common Prayer\, click here.
URL:https://www.stmaa.com/event/compline-2-2/2027-04-28/
CATEGORIES:Worship
END:VEVENT
BEGIN:VEVENT
DTSTART;TZID=America/Chicago:20270501T173000
DTEND;TZID=America/Chicago:20270501T183000
DTSTAMP:20260420T004814
CREATED:20251119T191601Z
LAST-MODIFIED:20260107T181936Z
UID:10003738-1809192600-1809196200@www.stmaa.com
SUMMARY:Holy Eucharist (without music)
DESCRIPTION:
URL:https://www.stmaa.com/event/holy-eucharist-without-music/2027-05-01/
END:VEVENT
BEGIN:VEVENT
DTSTART;TZID=America/Chicago:20270502T100000
DTEND;TZID=America/Chicago:20270502T113000
DTSTAMP:20260420T004814
CREATED:20251119T191258Z
LAST-MODIFIED:20260311T165302Z
UID:10003216-1809252000-1809257400@www.stmaa.com
SUMMARY:Holy Eucharist Service
DESCRIPTION:
URL:https://www.stmaa.com/event/holy-eucharist-service/2027-05-02/
END:VEVENT
BEGIN:VEVENT
DTSTART;TZID=America/Chicago:20270504T073000
DTEND;TZID=America/Chicago:20270504T083000
DTSTAMP:20260420T004814
CREATED:20231010T174516Z
LAST-MODIFIED:20240508T184859Z
UID:10001598-1809415800-1809419400@www.stmaa.com
SUMMARY:Men's Bible Study
DESCRIPTION:at Panera\, 7070 Marty St.\, Mission.
URL:https://www.stmaa.com/event/mens-bible-study-2/2027-05-04/
END:VEVENT
BEGIN:VEVENT
DTSTART;TZID=America/Chicago:20270505T093000
DTEND;TZID=America/Chicago:20270505T101500
DTSTAMP:20260420T004814
CREATED:20251119T191450Z
LAST-MODIFIED:20260107T181109Z
UID:10003478-1809509400-1809512100@www.stmaa.com
SUMMARY:Holy Eucharist in Cloud Chapel
DESCRIPTION:
URL:https://www.stmaa.com/event/holy-eucharist-in-cloud-chapel/2027-05-05/
END:VEVENT
BEGIN:VEVENT
DTSTART;TZID=America/Chicago:20270505T200000
DTEND;TZID=America/Chicago:20270505T203000
DTSTAMP:20260420T004814
CREATED:20250305T193010Z
LAST-MODIFIED:20251117T193854Z
UID:10001055-1809547200-1809549000@www.stmaa.com
SUMMARY:Compline
DESCRIPTION:Held on Zoom. To attend virtually\, click here. \nTo access the Compline service in the Book of Common Prayer\, click here.
URL:https://www.stmaa.com/event/compline-2-2/2027-05-05/
CATEGORIES:Worship
END:VEVENT
BEGIN:VEVENT
DTSTART;TZID=America/Chicago:20270508T173000
DTEND;TZID=America/Chicago:20270508T183000
DTSTAMP:20260420T004814
CREATED:20251119T191601Z
LAST-MODIFIED:20260107T181936Z
UID:10003739-1809797400-1809801000@www.stmaa.com
SUMMARY:Holy Eucharist (without music)
DESCRIPTION:
URL:https://www.stmaa.com/event/holy-eucharist-without-music/2027-05-08/
END:VEVENT
BEGIN:VEVENT
DTSTART;TZID=America/Chicago:20270509T100000
DTEND;TZID=America/Chicago:20270509T113000
DTSTAMP:20260420T004814
CREATED:20251119T191258Z
LAST-MODIFIED:20260311T165302Z
UID:10003217-1809856800-1809862200@www.stmaa.com
SUMMARY:Holy Eucharist Service
DESCRIPTION:
URL:https://www.stmaa.com/event/holy-eucharist-service/2027-05-09/
END:VEVENT
BEGIN:VEVENT
DTSTART;TZID=America/Chicago:20270511T113000
DTEND;TZID=America/Chicago:20270511T130000
DTSTAMP:20260420T004814
CREATED:20251119T192513Z
LAST-MODIFIED:20251119T192754Z
UID:10003945-1810035000-1810040400@www.stmaa.com
SUMMARY:Senior Men's Lunch
DESCRIPTION:Join the senior men for lunch and fellowship. Meets monthly at various locations. \nContact Cecil for details:  913-486-5723 or ca1372@aol.com.
URL:https://www.stmaa.com/event/senior-mens-lunch/2027-05-11/
END:VEVENT
BEGIN:VEVENT
DTSTART;TZID=America/Chicago:20270512T093000
DTEND;TZID=America/Chicago:20270512T101500
DTSTAMP:20260420T004814
CREATED:20251119T191450Z
LAST-MODIFIED:20260107T181109Z
UID:10003479-1810114200-1810116900@www.stmaa.com
SUMMARY:Holy Eucharist in Cloud Chapel
DESCRIPTION:
URL:https://www.stmaa.com/event/holy-eucharist-in-cloud-chapel/2027-05-12/
END:VEVENT
BEGIN:VEVENT
DTSTART;TZID=America/Chicago:20270512T200000
DTEND;TZID=America/Chicago:20270512T203000
DTSTAMP:20260420T004814
CREATED:20250305T193010Z
LAST-MODIFIED:20251117T193854Z
UID:10001057-1810152000-1810153800@www.stmaa.com
SUMMARY:Compline
DESCRIPTION:Held on Zoom. To attend virtually\, click here. \nTo access the Compline service in the Book of Common Prayer\, click here.
URL:https://www.stmaa.com/event/compline-2-2/2027-05-12/
CATEGORIES:Worship
END:VEVENT
BEGIN:VEVENT
DTSTART;TZID=America/Chicago:20270515T173000
DTEND;TZID=America/Chicago:20270515T183000
DTSTAMP:20260420T004814
CREATED:20251119T191601Z
LAST-MODIFIED:20260107T181936Z
UID:10003740-1810402200-1810405800@www.stmaa.com
SUMMARY:Holy Eucharist (without music)
DESCRIPTION:
URL:https://www.stmaa.com/event/holy-eucharist-without-music/2027-05-15/
END:VEVENT
BEGIN:VEVENT
DTSTART;TZID=America/Chicago:20270516T100000
DTEND;TZID=America/Chicago:20270516T113000
DTSTAMP:20260420T004814
CREATED:20251119T191258Z
LAST-MODIFIED:20260311T165302Z
UID:10003218-1810461600-1810467000@www.stmaa.com
SUMMARY:Holy Eucharist Service
DESCRIPTION:
URL:https://www.stmaa.com/event/holy-eucharist-service/2027-05-16/
END:VEVENT
BEGIN:VEVENT
DTSTART;TZID=America/Chicago:20270518T183000
DTEND;TZID=America/Chicago:20270518T203000
DTSTAMP:20260420T004814
CREATED:20250610T164551Z
LAST-MODIFIED:20250610T164551Z
UID:10001505-1810665000-1810672200@www.stmaa.com
SUMMARY:Vestry Meeting
DESCRIPTION:
URL:https://www.stmaa.com/event/vestry-meeting-2/2027-05-18/
END:VEVENT
BEGIN:VEVENT
DTSTART;TZID=America/Chicago:20270519T093000
DTEND;TZID=America/Chicago:20270519T101500
DTSTAMP:20260420T004814
CREATED:20251119T191450Z
LAST-MODIFIED:20260107T181109Z
UID:10003480-1810719000-1810721700@www.stmaa.com
SUMMARY:Holy Eucharist in Cloud Chapel
DESCRIPTION:
URL:https://www.stmaa.com/event/holy-eucharist-in-cloud-chapel/2027-05-19/
END:VEVENT
BEGIN:VEVENT
DTSTART;TZID=America/Chicago:20270519T200000
DTEND;TZID=America/Chicago:20270519T203000
DTSTAMP:20260420T004814
CREATED:20250305T193010Z
LAST-MODIFIED:20251117T193854Z
UID:10001059-1810756800-1810758600@www.stmaa.com
SUMMARY:Compline
DESCRIPTION:Held on Zoom. To attend virtually\, click here. \nTo access the Compline service in the Book of Common Prayer\, click here.
URL:https://www.stmaa.com/event/compline-2-2/2027-05-19/
CATEGORIES:Worship
END:VEVENT
BEGIN:VEVENT
DTSTART;TZID=America/Chicago:20270522T173000
DTEND;TZID=America/Chicago:20270522T183000
DTSTAMP:20260420T004814
CREATED:20251119T191601Z
LAST-MODIFIED:20260107T181936Z
UID:10003741-1811007000-1811010600@www.stmaa.com
SUMMARY:Holy Eucharist (without music)
DESCRIPTION:
URL:https://www.stmaa.com/event/holy-eucharist-without-music/2027-05-22/
END:VEVENT
BEGIN:VEVENT
DTSTART;TZID=America/Chicago:20270523T100000
DTEND;TZID=America/Chicago:20270523T113000
DTSTAMP:20260420T004814
CREATED:20251119T191258Z
LAST-MODIFIED:20260311T165302Z
UID:10003219-1811066400-1811071800@www.stmaa.com
SUMMARY:Holy Eucharist Service
DESCRIPTION:
URL:https://www.stmaa.com/event/holy-eucharist-service/2027-05-23/
END:VEVENT
BEGIN:VEVENT
DTSTART;TZID=America/Chicago:20270526T093000
DTEND;TZID=America/Chicago:20270526T101500
DTSTAMP:20260420T004814
CREATED:20251119T191450Z
LAST-MODIFIED:20260107T181109Z
UID:10003481-1811323800-1811326500@www.stmaa.com
SUMMARY:Holy Eucharist in Cloud Chapel
DESCRIPTION:
URL:https://www.stmaa.com/event/holy-eucharist-in-cloud-chapel/2027-05-26/
END:VEVENT
BEGIN:VEVENT
DTSTART;TZID=America/Chicago:20270526T200000
DTEND;TZID=America/Chicago:20270526T203000
DTSTAMP:20260420T004814
CREATED:20250305T193010Z
LAST-MODIFIED:20251117T193854Z
UID:10001061-1811361600-1811363400@www.stmaa.com
SUMMARY:Compline
DESCRIPTION:Held on Zoom. To attend virtually\, click here. \nTo access the Compline service in the Book of Common Prayer\, click here.
URL:https://www.stmaa.com/event/compline-2-2/2027-05-26/
CATEGORIES:Worship
END:VEVENT
BEGIN:VEVENT
DTSTART;TZID=America/Chicago:20270529T173000
DTEND;TZID=America/Chicago:20270529T183000
DTSTAMP:20260420T004814
CREATED:20251119T191601Z
LAST-MODIFIED:20260107T181936Z
UID:10003742-1811611800-1811615400@www.stmaa.com
SUMMARY:Holy Eucharist (without music)
DESCRIPTION:
URL:https://www.stmaa.com/event/holy-eucharist-without-music/2027-05-29/
END:VEVENT
BEGIN:VEVENT
DTSTART;TZID=America/Chicago:20270530T100000
DTEND;TZID=America/Chicago:20270530T113000
DTSTAMP:20260420T004814
CREATED:20251119T191258Z
LAST-MODIFIED:20260311T165302Z
UID:10003220-1811671200-1811676600@www.stmaa.com
SUMMARY:Holy Eucharist Service
DESCRIPTION:
URL:https://www.stmaa.com/event/holy-eucharist-service/2027-05-30/
END:VEVENT
BEGIN:VEVENT
DTSTART;TZID=America/Chicago:20270601T073000
DTEND;TZID=America/Chicago:20270601T083000
DTSTAMP:20260420T004814
CREATED:20231010T174516Z
LAST-MODIFIED:20240508T184859Z
UID:10001599-1811835000-1811838600@www.stmaa.com
SUMMARY:Men's Bible Study
DESCRIPTION:at Panera\, 7070 Marty St.\, Mission.
URL:https://www.stmaa.com/event/mens-bible-study-2/2027-06-01/
END:VEVENT
BEGIN:VEVENT
DTSTART;TZID=America/Chicago:20270602T093000
DTEND;TZID=America/Chicago:20270602T101500
DTSTAMP:20260420T004814
CREATED:20251119T191450Z
LAST-MODIFIED:20260107T181109Z
UID:10003482-1811928600-1811931300@www.stmaa.com
SUMMARY:Holy Eucharist in Cloud Chapel
DESCRIPTION:
URL:https://www.stmaa.com/event/holy-eucharist-in-cloud-chapel/2027-06-02/
END:VEVENT
BEGIN:VEVENT
DTSTART;TZID=America/Chicago:20270602T200000
DTEND;TZID=America/Chicago:20270602T203000
DTSTAMP:20260420T004814
CREATED:20250305T193010Z
LAST-MODIFIED:20251117T193854Z
UID:10001063-1811966400-1811968200@www.stmaa.com
SUMMARY:Compline
DESCRIPTION:Held on Zoom. To attend virtually\, click here. \nTo access the Compline service in the Book of Common Prayer\, click here.
URL:https://www.stmaa.com/event/compline-2-2/2027-06-02/
CATEGORIES:Worship
END:VEVENT
BEGIN:VEVENT
DTSTART;TZID=America/Chicago:20270605T173000
DTEND;TZID=America/Chicago:20270605T183000
DTSTAMP:20260420T004814
CREATED:20251119T191601Z
LAST-MODIFIED:20260107T181936Z
UID:10003743-1812216600-1812220200@www.stmaa.com
SUMMARY:Holy Eucharist (without music)
DESCRIPTION:
URL:https://www.stmaa.com/event/holy-eucharist-without-music/2027-06-05/
END:VEVENT
BEGIN:VEVENT
DTSTART;TZID=America/Chicago:20270606T100000
DTEND;TZID=America/Chicago:20270606T113000
DTSTAMP:20260420T004814
CREATED:20251119T191258Z
LAST-MODIFIED:20260311T165302Z
UID:10003221-1812276000-1812281400@www.stmaa.com
SUMMARY:Holy Eucharist Service
DESCRIPTION:
URL:https://www.stmaa.com/event/holy-eucharist-service/2027-06-06/
END:VEVENT
BEGIN:VEVENT
DTSTART;TZID=America/Chicago:20270608T113000
DTEND;TZID=America/Chicago:20270608T130000
DTSTAMP:20260420T004814
CREATED:20251119T192513Z
LAST-MODIFIED:20251119T192754Z
UID:10003946-1812454200-1812459600@www.stmaa.com
SUMMARY:Senior Men's Lunch
DESCRIPTION:Join the senior men for lunch and fellowship. Meets monthly at various locations. \nContact Cecil for details:  913-486-5723 or ca1372@aol.com.
URL:https://www.stmaa.com/event/senior-mens-lunch/2027-06-08/
END:VEVENT
BEGIN:VEVENT
DTSTART;TZID=America/Chicago:20270609T093000
DTEND;TZID=America/Chicago:20270609T101500
DTSTAMP:20260420T004814
CREATED:20251119T191450Z
LAST-MODIFIED:20260107T181109Z
UID:10003483-1812533400-1812536100@www.stmaa.com
SUMMARY:Holy Eucharist in Cloud Chapel
DESCRIPTION:
URL:https://www.stmaa.com/event/holy-eucharist-in-cloud-chapel/2027-06-09/
END:VEVENT
BEGIN:VEVENT
DTSTART;TZID=America/Chicago:20270609T200000
DTEND;TZID=America/Chicago:20270609T203000
DTSTAMP:20260420T004814
CREATED:20250305T193010Z
LAST-MODIFIED:20251117T193854Z
UID:10001065-1812571200-1812573000@www.stmaa.com
SUMMARY:Compline
DESCRIPTION:Held on Zoom. To attend virtually\, click here. \nTo access the Compline service in the Book of Common Prayer\, click here.
URL:https://www.stmaa.com/event/compline-2-2/2027-06-09/
CATEGORIES:Worship
END:VEVENT
END:VCALENDAR